BEGIN:VCALENDAR
VERSION:2.0
PRODID:-//CTN Dissemination Library - ECPv6.15.20//NONSGML v1.0//EN
CALSCALE:GREGORIAN
METHOD:PUBLISH
X-ORIGINAL-URL:https://ctnlibrary.org
X-WR-CALDESC:Events for CTN Dissemination Library
REFRESH-INTERVAL;VALUE=DURATION:PT1H
X-Robots-Tag:noindex
X-PUBLISHED-TTL:PT1H
BEGIN:VTIMEZONE
TZID:America/New_York
BEGIN:DAYLIGHT
TZOFFSETFROM:-0500
TZOFFSETTO:-0400
TZNAME:EDT
DTSTART:20240310T070000
END:DAYLIGHT
BEGIN:STANDARD
TZOFFSETFROM:-0400
TZOFFSETTO:-0500
TZNAME:EST
DTSTART:20241103T060000
END:STANDARD
BEGIN:DAYLIGHT
TZOFFSETFROM:-0500
TZOFFSETTO:-0400
TZNAME:EDT
DTSTART:20250309T070000
END:DAYLIGHT
BEGIN:STANDARD
TZOFFSETFROM:-0400
TZOFFSETTO:-0500
TZNAME:EST
DTSTART:20251102T060000
END:STANDARD
BEGIN:DAYLIGHT
TZOFFSETFROM:-0500
TZOFFSETTO:-0400
TZNAME:EDT
DTSTART:20260308T070000
END:DAYLIGHT
BEGIN:STANDARD
TZOFFSETFROM:-0400
TZOFFSETTO:-0500
TZNAME:EST
DTSTART:20261101T060000
END:STANDARD
END:VTIMEZONE
BEGIN:VEVENT
DTSTART;TZID=America/New_York:20250718T110000
DTEND;TZID=America/New_York:20250718T120000
DTSTAMP:20260425T181428
CREATED:20250613T234349Z
LAST-MODIFIED:20250613T234349Z
UID:3418-1752836400-1752840000@ctnlibrary.org
SUMMARY:CTN Youth SIG: Neural Substrates of Risk-Reduction Interventions for Adolescents
DESCRIPTION:The CTN Youth SIG is pleased to invite you to an upcoming presentation/webinar: \nNeural Substrates of Risk-Reduction Interventions for Adolescents\nPresenter: Uma Rao\, MD (University of CA\, Irvine; Children’s Hospital of Orange County) \nAdolescence is characterized by increased experimentation\, which is helpful in the progression towards autonomy but also increases vulnerability to psychopathology. A temporal disassociation in the maturation of “socio-emotional” (reward) and “cognitive-control” (self-regulation) neural systems creates a period of poor decision-making and heightened vulnerability to risk-taking (reward-seeking) behavior with the onset of puberty. This presentation describes whether neural circuitry changes governing adolescent decision-making can be used to improve intervention programs seeking to deter risky behaviors\, especially among African Americans who are disproportionately impacted by their negative consequences. \nRegister here!  \nDr. Uma Rao is Professor of Psychiatry and Human Behavior at UC Irvine. Her research is focused on adolescent mood and substance use disorders\, including neurobiological and psychosocial predictors of first onset and longitudinal clinical course of these disorders among at-risk youth (especially early-life adversity). In addition\, she is involved in translational intervention research\, examining biopsychosocial predictors of response to pharmacological and psychosocial interventions for these conditions.
URL:https://ctnlibrary.org/event/ctn-youth-sig-neural-substrates-of-risk-reduction-interventions-for-adolescents/
LOCATION:Webinar/Virtual
ATTACH;FMTTYPE=image/jpeg:https://ctnlibrary.org/wp-content/uploads/2025/06/umarao.jpg
END:VEVENT
END:VCALENDAR