BEGIN:VCALENDAR
VERSION:2.0
PRODID:-//CTN Dissemination Library - ECPv6.15.20//NONSGML v1.0//EN
CALSCALE:GREGORIAN
METHOD:PUBLISH
X-WR-CALNAME:CTN Dissemination Library
X-ORIGINAL-URL:https://ctnlibrary.org
X-WR-CALDESC:Events for CTN Dissemination Library
REFRESH-INTERVAL;VALUE=DURATION:PT1H
X-Robots-Tag:noindex
X-PUBLISHED-TTL:PT1H
BEGIN:VTIMEZONE
TZID:America/New_York
BEGIN:DAYLIGHT
TZOFFSETFROM:-0500
TZOFFSETTO:-0400
TZNAME:EDT
DTSTART:20240310T070000
END:DAYLIGHT
BEGIN:STANDARD
TZOFFSETFROM:-0400
TZOFFSETTO:-0500
TZNAME:EST
DTSTART:20241103T060000
END:STANDARD
BEGIN:DAYLIGHT
TZOFFSETFROM:-0500
TZOFFSETTO:-0400
TZNAME:EDT
DTSTART:20250309T070000
END:DAYLIGHT
BEGIN:STANDARD
TZOFFSETFROM:-0400
TZOFFSETTO:-0500
TZNAME:EST
DTSTART:20251102T060000
END:STANDARD
BEGIN:DAYLIGHT
TZOFFSETFROM:-0500
TZOFFSETTO:-0400
TZNAME:EDT
DTSTART:20260308T070000
END:DAYLIGHT
BEGIN:STANDARD
TZOFFSETFROM:-0400
TZOFFSETTO:-0500
TZNAME:EST
DTSTART:20261101T060000
END:STANDARD
END:VTIMEZONE
BEGIN:VEVENT
DTSTART;TZID=America/New_York:20250728T120000
DTEND;TZID=America/New_York:20250728T130000
DTSTAMP:20260425T181152
CREATED:20250613T235436Z
LAST-MODIFIED:20250716T225431Z
UID:3424-1753704000-1753707600@ctnlibrary.org
SUMMARY:CTN Primary Care SIG: Loneliness and SUD in Primary Care
DESCRIPTION:CTN Primary Care SIG\n\nThe Primary Care SIG aims to engage primary care in research\, develop substance use treatment interventions relevant to community-based practice\, and promote the transfer of evidence-based results from substance use research into community-based practices.\n\nJoin the SIG for their next meeting:\nLoneliness and SUD in primary care\n\nSebastian Tong\, MD\, MPH\nAssociate Professor\nDepartment of Family Medicine\nUniversity of Washington\nZoom link here!\nMeeting ID: 958 7249 4214\nPasscode: 314203
URL:https://ctnlibrary.org/event/ctn-primary-care-sig-loneliness-and-sud-in-primary-care/
LOCATION:Webinar/Virtual
ATTACH;FMTTYPE=image/png:https://ctnlibrary.org/wp-content/uploads/2024/02/primarycaresig.png
END:VEVENT
END:VCALENDAR