BEGIN:VCALENDAR
VERSION:2.0
PRODID:-//CTN Dissemination Library - ECPv6.15.20//NONSGML v1.0//EN
CALSCALE:GREGORIAN
METHOD:PUBLISH
X-WR-CALNAME:CTN Dissemination Library
X-ORIGINAL-URL:https://ctnlibrary.org
X-WR-CALDESC:Events for CTN Dissemination Library
REFRESH-INTERVAL;VALUE=DURATION:PT1H
X-Robots-Tag:noindex
X-PUBLISHED-TTL:PT1H
BEGIN:VTIMEZONE
TZID:America/New_York
BEGIN:DAYLIGHT
TZOFFSETFROM:-0500
TZOFFSETTO:-0400
TZNAME:EDT
DTSTART:20240310T070000
END:DAYLIGHT
BEGIN:STANDARD
TZOFFSETFROM:-0400
TZOFFSETTO:-0500
TZNAME:EST
DTSTART:20241103T060000
END:STANDARD
BEGIN:DAYLIGHT
TZOFFSETFROM:-0500
TZOFFSETTO:-0400
TZNAME:EDT
DTSTART:20250309T070000
END:DAYLIGHT
BEGIN:STANDARD
TZOFFSETFROM:-0400
TZOFFSETTO:-0500
TZNAME:EST
DTSTART:20251102T060000
END:STANDARD
BEGIN:DAYLIGHT
TZOFFSETFROM:-0500
TZOFFSETTO:-0400
TZNAME:EDT
DTSTART:20260308T070000
END:DAYLIGHT
BEGIN:STANDARD
TZOFFSETFROM:-0400
TZOFFSETTO:-0500
TZNAME:EST
DTSTART:20261101T060000
END:STANDARD
END:VTIMEZONE
BEGIN:VEVENT
DTSTART;TZID=America/New_York:20250813T120000
DTEND;TZID=America/New_York:20250813T130000
DTSTAMP:20260425T164019
CREATED:20250425T213302Z
LAST-MODIFIED:20250425T213441Z
UID:3279-1755086400-1755090000@ctnlibrary.org
SUMMARY:OV Node Summer Speaker Series: Psychedelics as Therapeutics for Substances Use Disorder: A Perspective on Their Neurobiology and Future Clinical Applications
DESCRIPTION:Join the University of Cincinnati College of Medicine Center for Addiction Research\, part of the CTN Ohio Valley Node\, is hosting a Summer Speaker Series. The series will highlight cutting-edge UC addiction research and UC-community collaborations related to prevention and treatment. \nThe final event in the series will be held on August 13\, 2025\, from 12-1pm ET: \nPsychedelics as Therapeutics for Substances Use Disorder: A Perspective on Their Neurobiology and Future Clinical Applications \nAugust 13\, 2025\, 12-1pm ET \nHost: T. John Winhusen\, PhD\, University of Cincinnati \nPresenters: \nDavide Amato\, MSc\, PhD\, PD\, University of Cincinnati \nJon Kostas\, Association for Prescription Psychedelics \nRegister here!
URL:https://ctnlibrary.org/event/ov-node-summer-speaker-series-psychedelics-as-therapeutics-for-substances-use-disorder-a-perspective-on-their-neurobiology-and-future-clinical-applications/
LOCATION:Webinar/Virtual
ATTACH;FMTTYPE=image/png:https://ctnlibrary.org/wp-content/uploads/2025/04/amato-kostas.png
END:VEVENT
END:VCALENDAR