BEGIN:VCALENDAR
VERSION:2.0
PRODID:-//CTN Dissemination Library - ECPv6.15.20//NONSGML v1.0//EN
CALSCALE:GREGORIAN
METHOD:PUBLISH
X-WR-CALNAME:CTN Dissemination Library
X-ORIGINAL-URL:https://ctnlibrary.org
X-WR-CALDESC:Events for CTN Dissemination Library
REFRESH-INTERVAL;VALUE=DURATION:PT1H
X-Robots-Tag:noindex
X-PUBLISHED-TTL:PT1H
BEGIN:VTIMEZONE
TZID:America/Los_Angeles
BEGIN:DAYLIGHT
TZOFFSETFROM:-0800
TZOFFSETTO:-0700
TZNAME:PDT
DTSTART:20240310T100000
END:DAYLIGHT
BEGIN:STANDARD
TZOFFSETFROM:-0700
TZOFFSETTO:-0800
TZNAME:PST
DTSTART:20241103T090000
END:STANDARD
BEGIN:DAYLIGHT
TZOFFSETFROM:-0800
TZOFFSETTO:-0700
TZNAME:PDT
DTSTART:20250309T100000
END:DAYLIGHT
BEGIN:STANDARD
TZOFFSETFROM:-0700
TZOFFSETTO:-0800
TZNAME:PST
DTSTART:20251102T090000
END:STANDARD
BEGIN:DAYLIGHT
TZOFFSETFROM:-0800
TZOFFSETTO:-0700
TZNAME:PDT
DTSTART:20260308T100000
END:DAYLIGHT
BEGIN:STANDARD
TZOFFSETFROM:-0700
TZOFFSETTO:-0800
TZNAME:PST
DTSTART:20261101T090000
END:STANDARD
END:VTIMEZONE
BEGIN:VEVENT
DTSTART;TZID=America/Los_Angeles:20250912T100000
DTEND;TZID=America/Los_Angeles:20250912T120000
DTSTAMP:20260425T151818
CREATED:20250909T192942Z
LAST-MODIFIED:20250909T193149Z
UID:3608-1757671200-1757678400@ctnlibrary.org
SUMMARY:Contingency Management: Implementation of a Highly Effective Intervention for the Treatment of Stimulant Use Disorder
DESCRIPTION:The UCLA Neuropsychiatric Institute and Hospital is celebrating its 50th anniversary. Please join the Greater Southern California Node for this free live virtual training on Friday September 12\, 2025\, from 10am to 12pm PST: Contingency Management: Implementation of Highly Effective Intervention for the Treatment of Stimulant Use Disorder.  \n\nLarissa Mooney\, MD\, Thomas E. Freese\, PhD\, and Richard A. Rawson\, PhD\, from UCLA’s Integrated Substance Use and Addiction Programs\, Division of Addiction Psychiatry will be delivering the training. \n\n\n\nRecent evidence indicates that methamphetamine and cocaine play a substantial and increasing role in the illicit drug crisis in the US—the 4th wave of the overdose crisis. The behavioral treatment known as contingency management (CM) has more than three decades of robust research supporting its efficacy for individuals with stimulant use disorder (StimUD). Despite overwhelming evidence supporting CM\, it has not been widely used in routine treatment outside the VA healthcare system. This situation is changing as states are arranging insurance reimbursement for CM and developing CM programming for individuals with StimUD. \n\n\n\nThis presentation\, provided by a team from UCLA Integrated Substance Use and Addiction Programs will begin with a brief overview of how cocaine and methamphetamine use are contributing to the current drug poisoning crisis. Presenters will review CM protocol elements\, evidence for CM\, current obstacles to widespread implementation of CM\, and strategies for addressing barriers. \n\n\n\nPresenters will also discuss the implementation strategies and preliminary results from the largest implementation of CM in publicly-funded treatment centers to date: The California Recovery Incentives Program. The project demonstrates the feasibility\, replicability\, and effectiveness of large-scale rollouts of this treatment. Time will be provided for audience Q&A and group discussion. \n\n\n\nContinuing education credits ((CEs/CMEs/CEHs) are available! For more information about this event\, check out the flyer. \n\n\n\nRegister for the session here!
URL:https://ctnlibrary.org/event/contingency-management-implementation-of-a-highly-effective-intervention-for-the-treatment-of-stimulant-use-disorder/
LOCATION:Webinar/Virtual
ATTACH;FMTTYPE=image/jpeg:https://ctnlibrary.org/wp-content/uploads/2023/02/webinar-ctnblog.jpg
END:VEVENT
END:VCALENDAR