BEGIN:VCALENDAR
VERSION:2.0
PRODID:-//CTN Dissemination Library - ECPv6.15.20//NONSGML v1.0//EN
CALSCALE:GREGORIAN
METHOD:PUBLISH
X-ORIGINAL-URL:https://ctnlibrary.org
X-WR-CALDESC:Events for CTN Dissemination Library
REFRESH-INTERVAL;VALUE=DURATION:PT1H
X-Robots-Tag:noindex
X-PUBLISHED-TTL:PT1H
BEGIN:VTIMEZONE
TZID:America/Los_Angeles
BEGIN:DAYLIGHT
TZOFFSETFROM:-0800
TZOFFSETTO:-0700
TZNAME:PDT
DTSTART:20240310T100000
END:DAYLIGHT
BEGIN:STANDARD
TZOFFSETFROM:-0700
TZOFFSETTO:-0800
TZNAME:PST
DTSTART:20241103T090000
END:STANDARD
BEGIN:DAYLIGHT
TZOFFSETFROM:-0800
TZOFFSETTO:-0700
TZNAME:PDT
DTSTART:20250309T100000
END:DAYLIGHT
BEGIN:STANDARD
TZOFFSETFROM:-0700
TZOFFSETTO:-0800
TZNAME:PST
DTSTART:20251102T090000
END:STANDARD
BEGIN:DAYLIGHT
TZOFFSETFROM:-0800
TZOFFSETTO:-0700
TZNAME:PDT
DTSTART:20260308T100000
END:DAYLIGHT
BEGIN:STANDARD
TZOFFSETFROM:-0700
TZOFFSETTO:-0800
TZNAME:PST
DTSTART:20261101T090000
END:STANDARD
END:VTIMEZONE
BEGIN:VTIMEZONE
TZID:America/New_York
BEGIN:DAYLIGHT
TZOFFSETFROM:-0500
TZOFFSETTO:-0400
TZNAME:EDT
DTSTART:20240310T070000
END:DAYLIGHT
BEGIN:STANDARD
TZOFFSETFROM:-0400
TZOFFSETTO:-0500
TZNAME:EST
DTSTART:20241103T060000
END:STANDARD
BEGIN:DAYLIGHT
TZOFFSETFROM:-0500
TZOFFSETTO:-0400
TZNAME:EDT
DTSTART:20250309T070000
END:DAYLIGHT
BEGIN:STANDARD
TZOFFSETFROM:-0400
TZOFFSETTO:-0500
TZNAME:EST
DTSTART:20251102T060000
END:STANDARD
BEGIN:DAYLIGHT
TZOFFSETFROM:-0500
TZOFFSETTO:-0400
TZNAME:EDT
DTSTART:20260308T070000
END:DAYLIGHT
BEGIN:STANDARD
TZOFFSETFROM:-0400
TZOFFSETTO:-0500
TZNAME:EST
DTSTART:20261101T060000
END:STANDARD
END:VTIMEZONE
BEGIN:VEVENT
DTSTART;TZID=America/Los_Angeles:20250916T090000
DTEND;TZID=America/Los_Angeles:20250916T100000
DTSTAMP:20260425T110354
CREATED:20250819T202300Z
LAST-MODIFIED:20250819T202300Z
UID:3517-1758013200-1758016800@ctnlibrary.org
SUMMARY:CTN T&I SIG Meeting: Clinical Decision Support to Increase Provision of Opioid Use Disorder Services in Primary Care.
DESCRIPTION:In this session\, Rebecca Rossom\, MD\, MS\, Stephanie Hooker\, PhD\, MPH\, and Gavin Bart\, MD\, PhD\, FACP\, DFASAM\, will discuss the work of CTN-0095: Clinic-Randomized Trial of Clinical Decision Support for Opioid Use Disorders in Medical Settings. They will share their study approach\, key findings\, and lessons learned from implementing this pragmatic trial. \nContact Elena Rosenberg-Carlson at rosenbee@stanford.edu for the meeting link or to join the CTN T&I SIG listserv
URL:https://ctnlibrary.org/event/ctn-ti-sig-meeting-clinical-decision-support-to-increase-provision-of-opioid-use-disorder-services-in-primary-care/
LOCATION:Webinar/Virtual
END:VEVENT
BEGIN:VEVENT
DTSTART;TZID=America/New_York:20250916T133000
DTEND;TZID=America/New_York:20250916T160000
DTSTAMP:20260425T110354
CREATED:20250909T184611Z
LAST-MODIFIED:20250909T184812Z
UID:3598-1758029400-1758038400@ctnlibrary.org
SUMMARY:CTN Quarterly Steering Committee Meeting
DESCRIPTION:Join us on September 16 (1:30-4pm ET) for the next CTN Quarterly Steering Committee Meeting! \nSessions will include final study reports for CTN-0099 and CTN-0096\, an update from the RDC\, and information about the CTN Coordination Hub. Find the agenda here. \n\nConnect to the Teams meeting here\nMeeting ID: 268 333 356 974\nPasscode: RR6Gg3q5
URL:https://ctnlibrary.org/event/ctn-quarterly-steering-committee-meeting/
LOCATION:Webinar/Virtual
END:VEVENT
END:VCALENDAR