BEGIN:VCALENDAR
VERSION:2.0
PRODID:-//CTN Dissemination Library - ECPv6.15.20//NONSGML v1.0//EN
CALSCALE:GREGORIAN
METHOD:PUBLISH
X-ORIGINAL-URL:https://ctnlibrary.org
X-WR-CALDESC:Events for CTN Dissemination Library
REFRESH-INTERVAL;VALUE=DURATION:PT1H
X-Robots-Tag:noindex
X-PUBLISHED-TTL:PT1H
BEGIN:VTIMEZONE
TZID:UTC
BEGIN:STANDARD
TZOFFSETFROM:+0000
TZOFFSETTO:+0000
TZNAME:UTC
DTSTART:20240101T000000
END:STANDARD
END:VTIMEZONE
BEGIN:VEVENT
DTSTART;TZID=UTC:20250922T120000
DTEND;TZID=UTC:20250922T130000
DTSTAMP:20260425T134624
CREATED:20250916T222846Z
LAST-MODIFIED:20250916T222846Z
UID:5536-1758542400-1758546000@ctnlibrary.org
SUMMARY:CTN Primary Care SIG: Engaging Primary Care in Research: Lessons from a High-Performing CTN Site
DESCRIPTION:The Primary Care SIG aims to engage primary care in research\, develop substance use treatment interventions relevant to community-based practice\, and promote the transfer of evidence-based results from substance use research into community-based practices.\n \nNext Primary Care SIG Meeting:\n“Engaging Primary Care in Research: Lessons from a High-Performing CTN Site” \nSeptember 22\, 2025 \n12-1pm ET \nJennifer LaHue\, MBA\, BSN\nDirector of Strategic Initiatives\, Clinical Informatics & Office-Based Addiction Treatment Program\nHarris Health System\n\nZoom Information\nJoin the Zoom Meeting here!\nMeeting ID: 947 8237 5156\nPasscode: 790019\n\n \nInterested in presenting at a future Primary Care SIG meeting? Email Sebastian Tong at setong@uw.edu or Claire Simon at clairebs@uw.edu
URL:https://ctnlibrary.org/event/ctn-primary-care-sig-engaging-primary-care-in-research-lessons-from-a-high-performing-ctn-site/
LOCATION:Webinar/Virtual
ATTACH;FMTTYPE=image/png:https://ctnlibrary.org/wp-content/uploads/2024/02/primarycaresig.png
END:VEVENT
END:VCALENDAR