BEGIN:VCALENDAR
VERSION:2.0
PRODID:-//CTN Dissemination Library - ECPv6.15.20//NONSGML v1.0//EN
CALSCALE:GREGORIAN
METHOD:PUBLISH
X-ORIGINAL-URL:https://ctnlibrary.org
X-WR-CALDESC:Events for CTN Dissemination Library
REFRESH-INTERVAL;VALUE=DURATION:PT1H
X-Robots-Tag:noindex
X-PUBLISHED-TTL:PT1H
BEGIN:VTIMEZONE
TZID:UTC
BEGIN:STANDARD
TZOFFSETFROM:+0000
TZOFFSETTO:+0000
TZNAME:UTC
DTSTART:20240101T000000
END:STANDARD
END:VTIMEZONE
BEGIN:VEVENT
DTSTART;VALUE=DATE:20250924
DTEND;VALUE=DATE:20250926
DTSTAMP:20260425T110346
CREATED:20250919T163840Z
LAST-MODIFIED:20250919T163840Z
UID:6024-1758672000-1758844799@ctnlibrary.org
SUMMARY:Guam's Sixth Annual Behavioral Health and Addictions Virtual Conference
DESCRIPTION:This live virtual conference is available at no-cost and will take place during National Recovery Month on September 24-25\, 2025 (see time zone conversion chart within the agenda at-a-glance attached for days/times of presentations and workshops). All workshops are eligible for one (1) continuing education credit/contact hour\, with select sessions eligible for one (1) CME or pharmacy credit/contact hour. \nSponsored by:  \nGuam Behavioral Health & Wellness Center (GBHWC) and the Pacific Southwest Addiction Technology Transfer Center (HHS Region 9) \nLearn more and register here!
URL:https://ctnlibrary.org/event/guams-sixth-annual-behavioral-health-and-addictions-virtual-conference/
LOCATION:Webinar/Virtual
ATTACH;FMTTYPE=image/png:https://ctnlibrary.org/wp-content/uploads/2025/09/guam-ctnblog.png
END:VEVENT
END:VCALENDAR