BEGIN:VCALENDAR
VERSION:2.0
PRODID:-//CTN Dissemination Library - ECPv6.15.20//NONSGML v1.0//EN
CALSCALE:GREGORIAN
METHOD:PUBLISH
X-WR-CALNAME:CTN Dissemination Library
X-ORIGINAL-URL:https://ctnlibrary.org
X-WR-CALDESC:Events for CTN Dissemination Library
REFRESH-INTERVAL;VALUE=DURATION:PT1H
X-Robots-Tag:noindex
X-PUBLISHED-TTL:PT1H
BEGIN:VTIMEZONE
TZID:America/Phoenix
BEGIN:STANDARD
TZOFFSETFROM:-0700
TZOFFSETTO:-0700
TZNAME:MST
DTSTART:20240101T000000
END:STANDARD
END:VTIMEZONE
BEGIN:VEVENT
DTSTART;TZID=America/Phoenix:20251001T120000
DTEND;TZID=America/Phoenix:20251001T130000
DTSTAMP:20260425T110252
CREATED:20250916T224128Z
LAST-MODIFIED:20250916T224128Z
UID:5543-1759320000-1759323600@ctnlibrary.org
SUMMARY:Greater Intermountain Node: Cannabis: Balancing Risk and Therapeutic Potential
DESCRIPTION:On the Rocks (OTR) is the Greater Intermountain Node’s (GIN) monthly Research Discussion Series\, spotlighting standout addiction-related research from across the Greater Intermountain community. Designed for dynamic exchange\, OTR fosters collaboration and fresh thinking through interactive conversations between presenters and attendees. The series name nods to the stunning Rocky Mountain backdrop and the iconic Utah trails just steps from our offices.\n\n \n\nJoin us for the next OTR on Wednesday\, October 1\, 2025\, from 12–1 PM MST\, featuring “Cannabis: Balancing Risk and Therapeutic Potential” with Marcel O. Bonn-Miller\, PhD.\n\n \n\nDr. Bonn-Miller will share insights from three key research areas: Cannabis Use Disorder\, the therapeutic promise of cannabinoids\, and regulatory science. He’ll present findings on cannabis use among veterans with PTSD\, explore cannabinoid-based treatments for sleep\, anxiety\, and substance use disorders\, and discuss CBD safety standards and regulatory frameworks.\n\n \n\nDr. Bonn-Miller holds a BA and PhD in clinical psychology from the University of Vermont and completed a postdoctoral fellowship at Stanford. He launched his research career at the VA and University of Pennsylvania\, later leading cannabis research in both academic and industry settings. He now serves as Chief Scientific Officer at Charlotte’s Web and has authored over 175 peer-reviewed publications.\n\n \nVisit the OTR website to learn how to join. Free CME/CE credit available for live attendees.
URL:https://ctnlibrary.org/event/greater-intermountain-node-cannabis-balancing-risk-and-therapeutic-potential/
ATTACH;FMTTYPE=image/png:https://ctnlibrary.org/wp-content/uploads/2025/09/rocks-bonn.png
END:VEVENT
END:VCALENDAR