BEGIN:VCALENDAR
VERSION:2.0
PRODID:-//CTN Dissemination Library - ECPv6.15.20//NONSGML v1.0//EN
CALSCALE:GREGORIAN
METHOD:PUBLISH
X-ORIGINAL-URL:https://ctnlibrary.org
X-WR-CALDESC:Events for CTN Dissemination Library
REFRESH-INTERVAL;VALUE=DURATION:PT1H
X-Robots-Tag:noindex
X-PUBLISHED-TTL:PT1H
BEGIN:VTIMEZONE
TZID:UTC
BEGIN:STANDARD
TZOFFSETFROM:+0000
TZOFFSETTO:+0000
TZNAME:UTC
DTSTART:20240101T000000
END:STANDARD
END:VTIMEZONE
BEGIN:VEVENT
DTSTART;VALUE=DATE:20251004
DTEND;VALUE=DATE:20251009
DTSTAMP:20260425T134533
CREATED:20250929T220938Z
LAST-MODIFIED:20250929T220938Z
UID:7474-1759536000-1759967999@ctnlibrary.org
SUMMARY:AATOD (American Assoc. for the Treatment of Opioid Dependence) Conference 2025
DESCRIPTION:The 2025 American Association for the Treatment of Opioid Dependence\, Inc. (AATOD) Conference will be held in Philadelphia\, Pennsylvania at the Philadelphia Marriott Downtown\, October 4-8\, 2025. The 2025 conference theme is “The Evolving Field of Opioid Treatment.” \nThe intent is to educate and promote acceptance and integration of MAT options by patients\, families\, clinicians\, the medical system\, judicial systems\, government\, policymakers\, social service administrations\, and the general public. Presenters will disseminate innovative\, evidence-based initiatives and treatment techniques to better serve patients and providers\, improve program development and administration\, promote integration across the continuum of care\, and enhance patient outcomes to assist communities in developing an effective response to this crisis.
URL:https://ctnlibrary.org/event/aatod-american-assoc-for-the-treatment-of-opioid-dependence-conference-2025/
LOCATION:Philadelphia Marriott Downtown\, 1201 Market St.\, Philadelphia\, PA\, 19107\, United States
ATTACH;FMTTYPE=image/png:https://ctnlibrary.org/wp-content/uploads/2025/09/aatod.png
END:VEVENT
END:VCALENDAR