BEGIN:VCALENDAR
VERSION:2.0
PRODID:-//CTN Dissemination Library - ECPv6.15.20//NONSGML v1.0//EN
CALSCALE:GREGORIAN
METHOD:PUBLISH
X-WR-CALNAME:CTN Dissemination Library
X-ORIGINAL-URL:https://ctnlibrary.org
X-WR-CALDESC:Events for CTN Dissemination Library
REFRESH-INTERVAL;VALUE=DURATION:PT1H
X-Robots-Tag:noindex
X-PUBLISHED-TTL:PT1H
BEGIN:VTIMEZONE
TZID:America/Los_Angeles
BEGIN:DAYLIGHT
TZOFFSETFROM:-0800
TZOFFSETTO:-0700
TZNAME:PDT
DTSTART:20240310T100000
END:DAYLIGHT
BEGIN:STANDARD
TZOFFSETFROM:-0700
TZOFFSETTO:-0800
TZNAME:PST
DTSTART:20241103T090000
END:STANDARD
BEGIN:DAYLIGHT
TZOFFSETFROM:-0800
TZOFFSETTO:-0700
TZNAME:PDT
DTSTART:20250309T100000
END:DAYLIGHT
BEGIN:STANDARD
TZOFFSETFROM:-0700
TZOFFSETTO:-0800
TZNAME:PST
DTSTART:20251102T090000
END:STANDARD
BEGIN:DAYLIGHT
TZOFFSETFROM:-0800
TZOFFSETTO:-0700
TZNAME:PDT
DTSTART:20260308T100000
END:DAYLIGHT
BEGIN:STANDARD
TZOFFSETFROM:-0700
TZOFFSETTO:-0800
TZNAME:PST
DTSTART:20261101T090000
END:STANDARD
END:VTIMEZONE
BEGIN:VEVENT
DTSTART;TZID=America/Los_Angeles:20251020T120000
DTEND;TZID=America/Los_Angeles:20251020T130000
DTSTAMP:20260425T102522
CREATED:20251013T175337Z
LAST-MODIFIED:20251013T175337Z
UID:7562-1760961600-1760965200@ctnlibrary.org
SUMMARY:GIN On the Rocks: Across the Continuum: Community-Engaged Research on Substance Use
DESCRIPTION:In this session\, Jordan A. Dyett\, PhD\, LCSW\, of the University of Wyoming\, will outline the community-engaged research continuum and key methodological considerations for partnering with communities. \nShe will share examples from her research to illustrate different points along the continuum and show how this approach complements other methods in addressing the drug crisis. \nIn-person at the Colorow Building\, Seminar Room 204\, University of Utah (383 Colorow Way\, Salt Lake City\, UT) or on Zoom: Meeting ID: 810 3810 4237; passcode: ginotr \nSponsored by the CTN Greater Intermountain Node.
URL:https://ctnlibrary.org/event/gin-on-the-rocks-across-the-continuum-community-engaged-research-on-substance-use/
ATTACH;FMTTYPE=image/png:https://ctnlibrary.org/wp-content/uploads/2025/10/gin-ontherocks-october-blog.png
END:VEVENT
END:VCALENDAR