BEGIN:VCALENDAR
VERSION:2.0
PRODID:-//CTN Dissemination Library - ECPv6.15.20//NONSGML v1.0//EN
CALSCALE:GREGORIAN
METHOD:PUBLISH
X-ORIGINAL-URL:https://ctnlibrary.org
X-WR-CALDESC:Events for CTN Dissemination Library
REFRESH-INTERVAL;VALUE=DURATION:PT1H
X-Robots-Tag:noindex
X-PUBLISHED-TTL:PT1H
BEGIN:VTIMEZONE
TZID:UTC
BEGIN:STANDARD
TZOFFSETFROM:+0000
TZOFFSETTO:+0000
TZNAME:UTC
DTSTART:20240101T000000
END:STANDARD
END:VTIMEZONE
BEGIN:VEVENT
DTSTART;VALUE=DATE:20251106
DTEND;VALUE=DATE:20251110
DTSTAMP:20260423T073909
CREATED:20250929T221603Z
LAST-MODIFIED:20250929T221603Z
UID:7484-1762387200-1762732799@ctnlibrary.org
SUMMARY:American Academy of Addiction Psychiatry (AAAP) Annual Meeting
DESCRIPTION:This event provides the latest scientific developments in substance use disorders and co-occurring psychiatric disorders for psychiatrists\, primary care physicians\, and allied health professionals. The goal of the conference is to recognize emerging issues and trends in addiction psychiatry and be on the forefront of diagnosis and treatment of substance use disorders and co-occurring psychiatric disorders.
URL:https://ctnlibrary.org/event/american-academy-of-addiction-psychiatry-aaap-annual-meeting/
LOCATION:Fairmont San Francisco\, 950 Mason St.\, San Francisco\, CA\, 94108\, United States
END:VEVENT
END:VCALENDAR