BEGIN:VCALENDAR
VERSION:2.0
PRODID:-//CTN Dissemination Library - ECPv6.15.20//NONSGML v1.0//EN
CALSCALE:GREGORIAN
METHOD:PUBLISH
X-WR-CALNAME:CTN Dissemination Library
X-ORIGINAL-URL:https://ctnlibrary.org
X-WR-CALDESC:Events for CTN Dissemination Library
REFRESH-INTERVAL;VALUE=DURATION:PT1H
X-Robots-Tag:noindex
X-PUBLISHED-TTL:PT1H
BEGIN:VTIMEZONE
TZID:UTC
BEGIN:STANDARD
TZOFFSETFROM:+0000
TZOFFSETTO:+0000
TZNAME:UTC
DTSTART:20240101T000000
END:STANDARD
END:VTIMEZONE
BEGIN:VEVENT
DTSTART;VALUE=DATE:20251214
DTEND;VALUE=DATE:20251218
DTSTAMP:20260423T073037
CREATED:20250529T222020Z
LAST-MODIFIED:20250529T222020Z
UID:3397-1765670400-1766015999@ctnlibrary.org
SUMMARY:18th Annual Conference on the Science of Dissemination and Implementation in Health
DESCRIPTION:This December\, individuals on the frontlines of dissemination and implementation (D&I) science will convene to ensure that evidence is used to inform decisions that will improve the health of individuals and communities. \nThrough a combination of plenaries\, concurrent sessions\, poster presentations\, and workshops\, the 18th Annual Conference on the Science of Dissemination and Implementation in Health\, co-hosted by the National Institutes of Health (NIH) and AcademyHealth\, supports the collective understanding of the research agenda\, puts forth new findings\, and identifies research priorities to set the field up for the next decade. \n2025 Conference Theme\nRealizing the Benefits of Dissemination & Implementation Science \nThis year’s conference theme will address our existing and future efforts to maximize the benefits of D&I science. While our field has identified and tested a range of strategies to ensure the adoption\, integration\, sustainment\, and spread of effective health interventions\, less attention has been focused on the ultimate benefits of successful dissemination and implementation studies. The 18th Annual Science of D&I Conference will explore success stories\, methodological advancements\, challenges\, and opportunities to realize the benefits of our science across health care\, community\, and public health systems.
URL:https://ctnlibrary.org/event/18th-annual-conference-on-the-science-of-dissemination-and-implementation-in-health/
LOCATION:Gaylord National Resort & Convention Center\, 201 Waterfront St.\, National Harbor\, MD\, 20745\, United States
ATTACH;FMTTYPE=image/png:https://ctnlibrary.org/wp-content/uploads/2025/05/dandiconference2025-blog.png
END:VEVENT
END:VCALENDAR