BEGIN:VCALENDAR
VERSION:2.0
PRODID:-//CTN Dissemination Library - ECPv6.15.20//NONSGML v1.0//EN
CALSCALE:GREGORIAN
METHOD:PUBLISH
X-WR-CALNAME:CTN Dissemination Library
X-ORIGINAL-URL:https://ctnlibrary.org
X-WR-CALDESC:Events for CTN Dissemination Library
REFRESH-INTERVAL;VALUE=DURATION:PT1H
X-Robots-Tag:noindex
X-PUBLISHED-TTL:PT1H
BEGIN:VTIMEZONE
TZID:America/Los_Angeles
BEGIN:DAYLIGHT
TZOFFSETFROM:-0800
TZOFFSETTO:-0700
TZNAME:PDT
DTSTART:20250309T100000
END:DAYLIGHT
BEGIN:STANDARD
TZOFFSETFROM:-0700
TZOFFSETTO:-0800
TZNAME:PST
DTSTART:20251102T090000
END:STANDARD
BEGIN:DAYLIGHT
TZOFFSETFROM:-0800
TZOFFSETTO:-0700
TZNAME:PDT
DTSTART:20260308T100000
END:DAYLIGHT
BEGIN:STANDARD
TZOFFSETFROM:-0700
TZOFFSETTO:-0800
TZNAME:PST
DTSTART:20261101T090000
END:STANDARD
BEGIN:DAYLIGHT
TZOFFSETFROM:-0800
TZOFFSETTO:-0700
TZNAME:PDT
DTSTART:20270314T100000
END:DAYLIGHT
BEGIN:STANDARD
TZOFFSETFROM:-0700
TZOFFSETTO:-0800
TZNAME:PST
DTSTART:20271107T090000
END:STANDARD
END:VTIMEZONE
BEGIN:VEVENT
DTSTART;TZID=America/Los_Angeles:20260402T100000
DTEND;TZID=America/Los_Angeles:20260402T230000
DTSTAMP:20260422T232138
CREATED:20260317T223718Z
LAST-MODIFIED:20260317T224214Z
UID:8088-1775124000-1775170800@ctnlibrary.org
SUMMARY:Health System Node: Effects of Cannabis Legalization on Mental Health and Substance Use in Adults and Thoughts on Future Directions in Cannabis Research
DESCRIPTION:Dr. Christian Hopfer\, Professor of Psychiatry at the University of Colorado School of Medicine and addiction psychiatrist\, will briefly review the pharmacology of cannabinoids\, present results of a recently completed study on the effects of cannabis legalization on mental health and substance use\, and discuss ongoing projects including a randomized clinical trial of cannabidiol as a possible harm reduction intervention for cannabis use disorder in young adults. He will also discuss future directions for cannabis research with a particular emphasis on how large health system records could be leveraged to address critical questions in cannabis research. \nJoin the meeting now \nMeeting ID: 250 658 877 216 6 \nPasscode: B8jq2m9A \n 
URL:https://ctnlibrary.org/event/health-system-node-effects-of-cannabis-legalization-on-mental-health-and-substance-use-in-adults-and-thoughts-on-future-directions-in-cannabis-research/
LOCATION:Webinar/Virtual
END:VEVENT
END:VCALENDAR