BEGIN:VCALENDAR
VERSION:2.0
PRODID:-//CTN Dissemination Library - ECPv6.15.20//NONSGML v1.0//EN
CALSCALE:GREGORIAN
METHOD:PUBLISH
X-WR-CALNAME:CTN Dissemination Library
X-ORIGINAL-URL:https://ctnlibrary.org
X-WR-CALDESC:Events for CTN Dissemination Library
REFRESH-INTERVAL;VALUE=DURATION:PT1H
X-Robots-Tag:noindex
X-PUBLISHED-TTL:PT1H
BEGIN:VTIMEZONE
TZID:UTC
BEGIN:STANDARD
TZOFFSETFROM:+0000
TZOFFSETTO:+0000
TZNAME:UTC
DTSTART:20250101T000000
END:STANDARD
END:VTIMEZONE
BEGIN:VEVENT
DTSTART;VALUE=DATE:20260423
DTEND;VALUE=DATE:20260427
DTSTAMP:20260422T215214
CREATED:20250929T221904Z
LAST-MODIFIED:20250929T221904Z
UID:7489-1776902400-1777247999@ctnlibrary.org
SUMMARY:American Society of Addiction Medicine (ASAM) Annual Conference
DESCRIPTION:The ASAM Annual Conference is the defining event in addiction medicine\, bringing together all professionals to connect\, learn\, and inspire. For 57 years\, ASAM has been convening the addiction treatment community to showcase best practices and the latest science\, research\, and innovations in the field. This year\, attendees will have the opportunity to: \n\nConnect and network with over 2\,500 colleagues\nLearn from nationally recognized experts at 60+ sessions and 120+ posters\nBe Inspired by thought-provoking conversations with peers and powerful presentations highlighting actionable and practical skills
URL:https://ctnlibrary.org/event/american-society-of-addiction-medicine-asam-annual-conference/
LOCATION:Manchester Grand Hyatt\, 1 Market Pl\, San Diego\, CA\, 92101\, United States
END:VEVENT
END:VCALENDAR