BEGIN:VCALENDAR
VERSION:2.0
PRODID:-//CTN Dissemination Library - ECPv6.15.20//NONSGML v1.0//EN
CALSCALE:GREGORIAN
METHOD:PUBLISH
X-WR-CALNAME:CTN Dissemination Library
X-ORIGINAL-URL:https://ctnlibrary.org
X-WR-CALDESC:Events for CTN Dissemination Library
REFRESH-INTERVAL;VALUE=DURATION:PT1H
X-Robots-Tag:noindex
X-PUBLISHED-TTL:PT1H
BEGIN:VTIMEZONE
TZID:America/New_York
BEGIN:DAYLIGHT
TZOFFSETFROM:-0500
TZOFFSETTO:-0400
TZNAME:EDT
DTSTART:20250309T070000
END:DAYLIGHT
BEGIN:STANDARD
TZOFFSETFROM:-0400
TZOFFSETTO:-0500
TZNAME:EST
DTSTART:20251102T060000
END:STANDARD
BEGIN:DAYLIGHT
TZOFFSETFROM:-0500
TZOFFSETTO:-0400
TZNAME:EDT
DTSTART:20260308T070000
END:DAYLIGHT
BEGIN:STANDARD
TZOFFSETFROM:-0400
TZOFFSETTO:-0500
TZNAME:EST
DTSTART:20261101T060000
END:STANDARD
BEGIN:DAYLIGHT
TZOFFSETFROM:-0500
TZOFFSETTO:-0400
TZNAME:EDT
DTSTART:20270314T070000
END:DAYLIGHT
BEGIN:STANDARD
TZOFFSETFROM:-0400
TZOFFSETTO:-0500
TZNAME:EST
DTSTART:20271107T060000
END:STANDARD
END:VTIMEZONE
BEGIN:VEVENT
DTSTART;TZID=America/New_York:20260521T120000
DTEND;TZID=America/New_York:20260521T130000
DTSTAMP:20260423T003655
CREATED:20260420T214841Z
LAST-MODIFIED:20260420T215450Z
UID:8458-1779364800-1779368400@ctnlibrary.org
SUMMARY:CTN Northeast Node: Injecting Hope: Repurposing GLP-1 Receptor Agonists for Treating SUDs
DESCRIPTION:Join the CTN Northeast Node for the next installment of their virtual Science Series\, featuring presenter Joji Suzuki\, MD\, FACLP\, PI of the SuzukiLab at Brigham and Women’s Hospital\, speaking about the use of GLP-1 receptor agonists for treatment substance use disorders (SUDs). \nThis 1-hour session on May 21\, 2026 (12-1pm ET) will cover the basic pharmacology of GLP-1 receptor agonists and related medications. Then the emerging evidence-base for their use in treating substance use disorders in humans will be reviewed. Finally\, the talk will cover the various issues and concerns that are now being raised when using GLP-1 receptor agonists. \nRegister here
URL:https://ctnlibrary.org/event/ctn-northeast-node-injecting-hope-repurposing-glp-1-receptor-agonists-for-treating-suds/
LOCATION:Webinar/Virtual
END:VEVENT
END:VCALENDAR