BEGIN:VCALENDAR
VERSION:2.0
PRODID:-//CTN Dissemination Library - ECPv6.15.20//NONSGML v1.0//EN
CALSCALE:GREGORIAN
METHOD:PUBLISH
X-ORIGINAL-URL:https://ctnlibrary.org
X-WR-CALDESC:Events for CTN Dissemination Library
REFRESH-INTERVAL;VALUE=DURATION:PT1H
X-Robots-Tag:noindex
X-PUBLISHED-TTL:PT1H
BEGIN:VTIMEZONE
TZID:UTC
BEGIN:STANDARD
TZOFFSETFROM:+0000
TZOFFSETTO:+0000
TZNAME:UTC
DTSTART:20250101T000000
END:STANDARD
END:VTIMEZONE
BEGIN:VTIMEZONE
TZID:America/New_York
BEGIN:DAYLIGHT
TZOFFSETFROM:-0500
TZOFFSETTO:-0400
TZNAME:EDT
DTSTART:20250309T070000
END:DAYLIGHT
BEGIN:STANDARD
TZOFFSETFROM:-0400
TZOFFSETTO:-0500
TZNAME:EST
DTSTART:20251102T060000
END:STANDARD
BEGIN:DAYLIGHT
TZOFFSETFROM:-0500
TZOFFSETTO:-0400
TZNAME:EDT
DTSTART:20260308T070000
END:DAYLIGHT
BEGIN:STANDARD
TZOFFSETFROM:-0400
TZOFFSETTO:-0500
TZNAME:EST
DTSTART:20261101T060000
END:STANDARD
BEGIN:DAYLIGHT
TZOFFSETFROM:-0500
TZOFFSETTO:-0400
TZNAME:EDT
DTSTART:20270314T070000
END:DAYLIGHT
BEGIN:STANDARD
TZOFFSETFROM:-0400
TZOFFSETTO:-0500
TZNAME:EST
DTSTART:20271107T060000
END:STANDARD
END:VTIMEZONE
BEGIN:VEVENT
DTSTART;VALUE=DATE:20260613
DTEND;VALUE=DATE:20260618
DTSTAMP:20260423T031028
CREATED:20250929T223038Z
LAST-MODIFIED:20250929T223038Z
UID:7496-1781308800-1781740799@ctnlibrary.org
SUMMARY:College on Problems of Drug Dependence (CPDD) Annual Meeting
DESCRIPTION:2026’s CPDD conference will be held June 13-17\, 2026 at the Oregon Convention Center in Portland\, OR. Check the website for updates! \n 
URL:https://ctnlibrary.org/event/college-on-problems-of-drug-dependence-cpdd-annual-meeting-2/
LOCATION:Oregon Convention Center\, 777 NE Martin Luther King Jr. Blvd.\, Portland\, OR\, 97232\, United States
ATTACH;FMTTYPE=image/jpeg:https://ctnlibrary.org/wp-content/uploads/2025/09/cpdd2026.jpg
END:VEVENT
BEGIN:VEVENT
DTSTART;TZID=America/New_York:20260708T120000
DTEND;TZID=America/New_York:20260708T130000
DTSTAMP:20260423T031028
CREATED:20260420T215623Z
LAST-MODIFIED:20260420T215850Z
UID:8463-1783512000-1783515600@ctnlibrary.org
SUMMARY:OV Node: Characterizing Heavy Drinking in Midlife and Older Adults via Mixed Methods
DESCRIPTION:Join host Ohio Valley Node PI T. John Winhusen\, PhD\, this summer for the University of Cincinnati/UC Health Addiction Center’s webinar series! \nThis series will highlight cutting-edge UC addiction research and UC-community collaborations focused on prevention and treatment. \nThe second installment in the series will feature Victor Schneider\, PhD\, and Christian C. Garcia\, PhD (both of U. Cincinnati) talking about heavy drinking in midlife and older adults. \nRegister here.
URL:https://ctnlibrary.org/event/ov-node-characterizing-heavy-drinking-in-midlife-and-older-adults-via-mixed-methods/
LOCATION:Webinar/Virtual
END:VEVENT
BEGIN:VEVENT
DTSTART;TZID=America/New_York:20260812T120000
DTEND;TZID=America/New_York:20260812T130000
DTSTAMP:20260423T031028
CREATED:20260420T215818Z
LAST-MODIFIED:20260420T215818Z
UID:8469-1786536000-1786539600@ctnlibrary.org
SUMMARY:OV Node: Towards Personalized Medicine for Opioid Use Disorder: Analyses of Data from the Veterans Health Administration
DESCRIPTION:Join host Ohio Valley Node PI T. John Winhusen\, PhD\, this summer for the University of Cincinnati/UC Health Addiction Center’s webinar series! \nThis series will highlight cutting-edge UC addiction research and UC-community collaborations focused on prevention and treatment. \nThe third and final installment of this series will feature Corey J. Hayes\, PharmD\, PhD\, MPH (U. Arkansas) and Daniel Bebo\, MD (U. Cincinnati) talking about personalized medicine for opioid use disorder. \nRegister here.
URL:https://ctnlibrary.org/event/ov-node-towards-personalized-medicine-for-opioid-use-disorder-analyses-of-data-from-the-veterans-health-administration/
LOCATION:Webinar/Virtual
END:VEVENT
END:VCALENDAR