BEGIN:VCALENDAR
VERSION:2.0
PRODID:-//CTN Dissemination Library - ECPv6.15.20//NONSGML v1.0//EN
CALSCALE:GREGORIAN
METHOD:PUBLISH
X-ORIGINAL-URL:https://ctnlibrary.org
X-WR-CALDESC:Events for CTN Dissemination Library
REFRESH-INTERVAL;VALUE=DURATION:PT1H
X-Robots-Tag:noindex
X-PUBLISHED-TTL:PT1H
BEGIN:VTIMEZONE
TZID:America/New_York
BEGIN:DAYLIGHT
TZOFFSETFROM:-0500
TZOFFSETTO:-0400
TZNAME:EDT
DTSTART:20240310T070000
END:DAYLIGHT
BEGIN:STANDARD
TZOFFSETFROM:-0400
TZOFFSETTO:-0500
TZNAME:EST
DTSTART:20241103T060000
END:STANDARD
BEGIN:DAYLIGHT
TZOFFSETFROM:-0500
TZOFFSETTO:-0400
TZNAME:EDT
DTSTART:20250309T070000
END:DAYLIGHT
BEGIN:STANDARD
TZOFFSETFROM:-0400
TZOFFSETTO:-0500
TZNAME:EST
DTSTART:20251102T060000
END:STANDARD
BEGIN:DAYLIGHT
TZOFFSETFROM:-0500
TZOFFSETTO:-0400
TZNAME:EDT
DTSTART:20260308T070000
END:DAYLIGHT
BEGIN:STANDARD
TZOFFSETFROM:-0400
TZOFFSETTO:-0500
TZNAME:EST
DTSTART:20261101T060000
END:STANDARD
END:VTIMEZONE
BEGIN:VTIMEZONE
TZID:UTC
BEGIN:STANDARD
TZOFFSETFROM:+0000
TZOFFSETTO:+0000
TZNAME:UTC
DTSTART:20240101T000000
END:STANDARD
END:VTIMEZONE
BEGIN:VEVENT
DTSTART;TZID=America/New_York:20250610T130000
DTEND;TZID=America/New_York:20250610T161500
DTSTAMP:20260425T181438
CREATED:20250520T195002Z
LAST-MODIFIED:20250520T195002Z
UID:3378-1749560400-1749572100@ctnlibrary.org
SUMMARY:CTN Quarterly Steering Committee Meeting (Virtual)
DESCRIPTION:The Center for the Clinical Trials Network (CCTN) at the National Institute on Drug Abuse (NIDA) is hosting a virtual Quarterly Steering Committee Meeting on Tuesday\, June 10\, 2025 from 1:00 – 4:15 p.m. Eastern.\n\n \nRegister for the meeting | View the agenda \n \n\nOnce registered you will receive a confirmation email with a link to join the meeting and an option to download a calendar invitation.\n\n \n\nPlease note: The event platform has changed from Zoom to Teams. Please register for the meeting early as it can take up to five minutes for the system to recognize a new registration and allow access to the meeting. If you have any questions about the meeting logistics\, please contact CTNSupport@sdsolutionsllc.com.\n\n \n\nIndividuals with disabilities who need sign language interpreting and/or other reasonable accommodations to participate in this event should contact Sean Randol at (202) 258-3638 or srandol@sdsolutionsllc.com or through the Federal Relay (1-800-877-8339). Requests should be made at least five business days in advance of the event.
URL:https://ctnlibrary.org/event/ctn-quarterly-steering-committee-meeting-virtual/
LOCATION:Webinar/Virtual
ATTACH;FMTTYPE=image/png:https://ctnlibrary.org/wp-content/uploads/2025/05/quarterlyscmtg-blog.png
END:VEVENT
BEGIN:VEVENT
DTSTART;TZID=America/New_York:20250611T120000
DTEND;TZID=America/New_York:20250611T130000
DTSTAMP:20260425T181438
CREATED:20250425T212837Z
LAST-MODIFIED:20250425T213357Z
UID:3273-1749643200-1749646800@ctnlibrary.org
SUMMARY:OV Node Summer Speaker Series: Forming an Interprofessional Workforce to Address Opioid Use Disorder Among At-Risk Youth
DESCRIPTION:Join the University of Cincinnati College of Medicine Center for Addiction Research\, part of the CTN Ohio Valley Node\, is hosting a Summer Speaker Series. The series will highlight cutting-edge UC addiction research and UC-community collaborations related to prevention and treatment. \nThe first session in the series will be held on June 11\, 2025 from 12-1pm ET: \nForming an Interprofessional Workforce to Address Opioid Use Disorder Among At-Risk Youth \nJune 11\, 2025\, 12-1pm ET \nHost: T. John Winhusen\, PhD (University of Cincinnati) \nPresenters: \nMichael D. Brubaker\, PhD\, LICDC-CS\, NCC\, School of Human Services\, University of Cincinnati \nKaycia Spenser\, LISA\, Cincinnati Children’s Hospital \nRegister here!
URL:https://ctnlibrary.org/event/ov-node-summer-speaker-series-forming-an-interprofessional-workforce-to-address-opioid-use-disorder-among-at-risk-youth/
LOCATION:Webinar/Virtual
ATTACH;FMTTYPE=image/png:https://ctnlibrary.org/wp-content/uploads/2025/04/brubaker-spenser.png
END:VEVENT
BEGIN:VEVENT
DTSTART;TZID=America/New_York:20250612T120000
DTEND;TZID=America/New_York:20250612T130000
DTSTAMP:20260425T181438
CREATED:20250508T200750Z
LAST-MODIFIED:20250508T200750Z
UID:3330-1749729600-1749733200@ctnlibrary.org
SUMMARY:Northeast Node Science Series Webinar: Digital Tools to Promote Substance Use Disorder and Mental Health Care (June 12\, 2025\, 12pm ET)
DESCRIPTION:1.0 CME\, ANCC\, or Vermont OPR CE credits available! \nAdvances in digital technology\, such as mobile devices\, have fundamentally changed our society and are rapidly changing how we provide substance use and mental healthcare.  \nIn this webinar from the CTN Northeast Node\, part of their ongoing Science Series\, Dr. Lisa Marsch\, Director of the Dartmouth Center for Technology and Behavioral Health\, will discuss how digital technology can provide state-of-the science\, personalized behavioral healthcare anytime and anywhere.   \nShe will review how data collected from mobile devices can provide new insights into the dynamic nature of substance use and mental health disorders in people’s daily lives and provide personalized digital therapeutic interventions to complement and extend our traditional models of care.  She will highlight the striking behavioral healthcare needs across the globe and how digital technologies can help provide scalable solutions to tackle these population-level needs.  She will provide a vision for the potential of digital technology to help redefine the future of behavioral healthcare. \nRegister for the session here!
URL:https://ctnlibrary.org/event/northeast-node-science-series-webinar-digital-tools-to-promote-substance-use-disorder-and-mental-health-care-june-12-2025-12pm-et/
LOCATION:Webinar/Virtual
ATTACH;FMTTYPE=image/jpeg:https://ctnlibrary.org/wp-content/uploads/2025/05/marsch.jpeg
END:VEVENT
BEGIN:VEVENT
DTSTART;VALUE=DATE:20250614
DTEND;VALUE=DATE:20250619
DTSTAMP:20260425T181438
CREATED:20250303T191634Z
LAST-MODIFIED:20250303T191634Z
UID:3158-1749859200-1750291199@ctnlibrary.org
SUMMARY:College on Problems of Drug Dependence (CPDD) Annual Meeting
DESCRIPTION:CPDD provides a national and international forum for scientists of diverse backgrounds to advance the understanding of molecular-neurobiological aspects of addictive disorders and\, by the application of new scientific knowledge\, to improve and develop treatments utilizing novel behavioral and pharmacological therapies. \nSince 1938\, a major focus of the CPDD’s activities has been its sponsorship of an annual scientific meeting. This conference serves as a forum bringing together basic scientists and clinical investigators from industry\, academia\, and government. Representatives of regulatory agencies\, as well as scientists and professionals in a number of diverse disciplines interested in the biochemical\, behavioral\, and public health aspects of drug dependence participate. \nApproximately 1\,300 attendees are expected for the 2025 meeting\, including many international attendees who come for the CPDD meeting as well as the NIDA International Forum.
URL:https://ctnlibrary.org/event/college-on-problems-of-drug-dependence-cpdd-annual-meeting/
ATTACH;FMTTYPE=image/png:https://ctnlibrary.org/wp-content/uploads/2025/03/cpdd2025.png
ORGANIZER;CN="CPDD":MAILTO:info@cpdd.org
END:VEVENT
BEGIN:VEVENT
DTSTART;TZID=UTC:20250625T110000
DTEND;TZID=UTC:20250625T123000
DTSTAMP:20260425T181438
CREATED:20250418T191601Z
LAST-MODIFIED:20250508T200954Z
UID:3230-1750849200-1750854600@ctnlibrary.org
SUMMARY:Western States Node Webinar: CTN-0108: Transcranial Magnetic Stimulation in the Treatment of Stimulant Use Disorder
DESCRIPTION:In this session\, Kathleen T. Brady\, MD\, PhD\, of the Medical University of South Carolina\, will discuss the NIDA N Clinical Trials Network (CTN) study CTN-0108\, “Transcranial Magnetic Stimulation for the Treatment of Methamphetamine/Cocaine Use Disorder\,” a pilot study that aims to determine the feasibility\, effectiveness\, and safety for 20 sessions of repetitive transcranial magnetic stimulation (rTMS) versus sham in adults with a diagnosed methamphetamine or cocaine use disorder. \nDr. Brady\, co-Principal Investigator for CTN-0108\, will present the rationale for the study\, including the literature supporting the use of rTMS in stimulant use disorder\, as well as the study methodology and preliminary results. \nObjectives: \n\nList 3 key research findings supporting the use of TMS in treating substance use disorders\nDescribe at least 3 key elements of the methodology for a trial of TMS in treating simulant use disorders\nIdentify at least 3 preliminary data points from the CTN-0108 study\n\nCME and CE credits available! Sponsored by the Western States Node and the Northwest and Pacific Southwest ATTCs. \nAbout the presenter: \nKathleen T. Brady\, M.D.\, Ph.D.\nDistinguished University Professor\nDirector\, South Carolina Clinical and Translational Research Institute\nMedical University of South Carolina \nDr. Brady is an experienced clinical and translational researcher and has been conducting scientific investigations and clinical work in the field of addictions and psychiatric disorders for over 40 years. Her focus is on pharmacotherapy and neurobiology of addictions\, comorbid psychiatric disorders and gender differences in addictions.  She has received numerous federal research grants and has published over 400 peer-reviewed journal articles and edited/co-edited 10 books.  She is the former Vice President for Research at the Medical University of South Carolina.  She has been a member of AAAP for over 25 years  and has served at the President of the Association for Medical Education and Research in Substance Use Disorders (AMERSA)\, the American Academy of Addiction Psychiatry (AAAP) and is the immediate past president of International Society of Addiction Medicine (ISAM). \n 
URL:https://ctnlibrary.org/event/western-states-node-webinar-ctn-0108-transcranial-magnetic-stimulation-in-the-treatment-of-stimulant-use-disorder/
LOCATION:Webinar/Virtual
ATTACH;FMTTYPE=image/png:https://ctnlibrary.org/wp-content/uploads/2025/04/brady-small.png
END:VEVENT
END:VCALENDAR